BEGIN:VCALENDAR
VERSION:2.0
PRODID:icalendar-ruby
CALSCALE:GREGORIAN
BEGIN:VEVENT
DTSTAMP:20260423T091200Z
UID:9c79dbcb-206c-46ee-82cd-f54e3ffd0418
DTSTART;VALUE=DATE:20200131
DESCRIPTION:Property ID# 470492\, Locatoin: Harcourts Lower Hutt\, Time: 4:
 00PM
SUMMARY:Auction for 
END:VEVENT
END:VCALENDAR
